BEGIN:VCALENDAR
VERSION:2.0
PRODID:-//StuBdi Münster - ECPv6.2.6//NONSGML v1.0//EN
CALSCALE:GREGORIAN
METHOD:PUBLISH
X-ORIGINAL-URL:https://ms.studentischer-besuchsdienst.de/wordpress
X-WR-CALDESC:Veranstaltungen für StuBdi Münster
REFRESH-INTERVAL;VALUE=DURATION:PT1H
X-Robots-Tag:noindex
X-PUBLISHED-TTL:PT1H
BEGIN:VTIMEZONE
TZID:Europe/Helsinki
BEGIN:DAYLIGHT
TZOFFSETFROM:+0200
TZOFFSETTO:+0300
TZNAME:EEST
DTSTART:20230326T010000
END:DAYLIGHT
BEGIN:STANDARD
TZOFFSETFROM:+0300
TZOFFSETTO:+0200
TZNAME:EET
DTSTART:20231029T010000
END:STANDARD
END:VTIMEZONE
BEGIN:VEVENT
DTSTART;TZID=Europe/Helsinki:20230704T190000
DTEND;TZID=Europe/Helsinki:20230704T210000
DTSTAMP:20260425T061841
CREATED:20230627T201235Z
LAST-MODIFIED:20230627T201651Z
UID:345-1688497200-1688504400@ms.studentischer-besuchsdienst.de
SUMMARY:Stammtisch
DESCRIPTION:Bald ist wieder Stammtischzeit! Am ersten Dienstag im Juli treffen wir uns ab 19:00 wieder im Krawummel zum Essen und Quatschen. Komm einfach dazu\, wenn du Lust und Zeit hast!
URL:https://ms.studentischer-besuchsdienst.de/wordpress/event/stammtisch-3/
LOCATION:Ludgeristraße 62
END:VEVENT
END:VCALENDAR