BEGIN:VCALENDAR
VERSION:2.0
PRODID:-//StuBdi Münster - ECPv6.2.6//NONSGML v1.0//EN
CALSCALE:GREGORIAN
METHOD:PUBLISH
X-WR-CALNAME:StuBdi Münster
X-ORIGINAL-URL:https://ms.studentischer-besuchsdienst.de/wordpress
X-WR-CALDESC:Veranstaltungen für StuBdi Münster
REFRESH-INTERVAL;VALUE=DURATION:PT1H
X-Robots-Tag:noindex
X-PUBLISHED-TTL:PT1H
BEGIN:VTIMEZONE
TZID:Europe/Helsinki
BEGIN:DAYLIGHT
TZOFFSETFROM:+0200
TZOFFSETTO:+0300
TZNAME:EEST
DTSTART:20240331T010000
END:DAYLIGHT
BEGIN:STANDARD
TZOFFSETFROM:+0300
TZOFFSETTO:+0200
TZNAME:EET
DTSTART:20241027T010000
END:STANDARD
END:VTIMEZONE
BEGIN:VEVENT
DTSTART;TZID=Europe/Helsinki:20240504T110000
DTEND;TZID=Europe/Helsinki:20240504T130000
DTSTAMP:20260424T161813
CREATED:20240501T073227Z
LAST-MODIFIED:20240501T073227Z
UID:355-1714820400-1714827600@ms.studentischer-besuchsdienst.de
SUMMARY:Jubiläums-Freiwilligentag 2024
DESCRIPTION:Anlässlich des 25. Geburtstages feiert die FreiwilligenAgentur das ehrenamtliche Engagement in Münster am 04. Mai 2024 von 11:00-17:00. Geplant sind unter anderem ein Engagement-Markt\, ein Kurzvortrag zu bürgerlicher Freiwilligenarbeit\, Live-Musik\, ein Food-Truck und ein Coffee-Bike! \nAuch unser studentischer Besucherdienst Münster wird als Teil des Engagement-Marktes am Stand 41 (Erdgeschoss Gesundheitshaus) zu finden sein. \nWir freuen uns auf euch!
URL:https://ms.studentischer-besuchsdienst.de/wordpress/event/jubilaeums-freiwilligentag-2024/
LOCATION:Gasselstiege 13\, Gasselstiege 13\, Münster\, 48159
END:VEVENT
END:VCALENDAR