BEGIN:VCALENDAR
VERSION:2.0
PRODID:-//StuBdi Münster - ECPv6.2.6//NONSGML v1.0//EN
CALSCALE:GREGORIAN
METHOD:PUBLISH
X-ORIGINAL-URL:https://ms.studentischer-besuchsdienst.de/wordpress
X-WR-CALDESC:Veranstaltungen für StuBdi Münster
REFRESH-INTERVAL;VALUE=DURATION:PT1H
X-Robots-Tag:noindex
X-PUBLISHED-TTL:PT1H
BEGIN:VTIMEZONE
TZID:Europe/Helsinki
BEGIN:DAYLIGHT
TZOFFSETFROM:+0200
TZOFFSETTO:+0300
TZNAME:EEST
DTSTART:20220327T010000
END:DAYLIGHT
BEGIN:STANDARD
TZOFFSETFROM:+0300
TZOFFSETTO:+0200
TZNAME:EET
DTSTART:20221030T010000
END:STANDARD
END:VTIMEZONE
BEGIN:VEVENT
DTSTART;TZID=Europe/Helsinki:20221005T120000
DTEND;TZID=Europe/Helsinki:20221005T140000
DTSTAMP:20260425T163249
CREATED:20220921T163722Z
LAST-MODIFIED:20220921T163933Z
UID:306-1664971200-1664978400@ms.studentischer-besuchsdienst.de
SUMMARY:Ersti-Messe WiSe 2022
DESCRIPTION:Am 05.10.2022 findet ihr uns nach der Ersti-Begrüßung im Preußen-Stadion von 12:00-14:00 auf der Ersti-Messe (Parkplatz vor dem Stadion). Ein Besuch an unserem Stand lohnt sich! \nFür weitere Infos besucht doch die Webseite der WWU.
URL:https://ms.studentischer-besuchsdienst.de/wordpress/event/ersti-messe-wise-2022/
LOCATION:Parkplatz Preußen-Stadion
END:VEVENT
BEGIN:VEVENT
DTSTART;TZID=Europe/Helsinki:20221019T190000
DTEND;TZID=Europe/Helsinki:20221019T200000
DTSTAMP:20260425T163249
CREATED:20220921T164452Z
LAST-MODIFIED:20220921T164452Z
UID:309-1666206000-1666209600@ms.studentischer-besuchsdienst.de
SUMMARY:Infoveranstaltung
DESCRIPTION:Wir laden euch zu unserer Infoveranstaltung in die Scharnhorststraße 100 am Aasee ein. Wir treffen uns in Raum 100.4 (ganz oben\, 4. Etage). Wir freuen uns auf euch!
URL:https://ms.studentischer-besuchsdienst.de/wordpress/event/infoveranstaltung/
LOCATION:Scharnhorststraße 100
END:VEVENT
END:VCALENDAR