BEGIN:VCALENDAR
VERSION:2.0
PRODID:-//StuBdi Münster - ECPv6.2.6//NONSGML v1.0//EN
CALSCALE:GREGORIAN
METHOD:PUBLISH
X-ORIGINAL-URL:https://ms.studentischer-besuchsdienst.de/wordpress
X-WR-CALDESC:Veranstaltungen für StuBdi Münster
REFRESH-INTERVAL;VALUE=DURATION:PT1H
X-Robots-Tag:noindex
X-PUBLISHED-TTL:PT1H
BEGIN:VTIMEZONE
TZID:Europe/Helsinki
BEGIN:DAYLIGHT
TZOFFSETFROM:+0200
TZOFFSETTO:+0300
TZNAME:EEST
DTSTART:20220327T010000
END:DAYLIGHT
BEGIN:STANDARD
TZOFFSETFROM:+0300
TZOFFSETTO:+0200
TZNAME:EET
DTSTART:20221030T010000
END:STANDARD
END:VTIMEZONE
BEGIN:VEVENT
DTSTART;TZID=Europe/Helsinki:20221206T170000
DTEND;TZID=Europe/Helsinki:20221206T200000
DTSTAMP:20260425T135415
CREATED:20220921T171812Z
LAST-MODIFIED:20221204T165324Z
UID:317-1670346000-1670356800@ms.studentischer-besuchsdienst.de
SUMMARY:Weihnachtsmarkt-Stammtisch
DESCRIPTION:Während des Semesters findet am 1. Dienstag im Monat immer unser Stammtisch statt. Dieses Mal verlegen wir das passend zur vorweihnachtlichen Stimmung auf den Weihnachtsmarkt!
URL:https://ms.studentischer-besuchsdienst.de/wordpress/event/stammtisch/
LOCATION:Überwasserkirche (Live-Standort wird in WhatsApp-Gruppe geschickt)
END:VEVENT
END:VCALENDAR