BEGIN:VCALENDAR
VERSION:2.0
PRODID:-//StuBdi Münster - ECPv6.2.6//NONSGML v1.0//EN
CALSCALE:GREGORIAN
METHOD:PUBLISH
X-ORIGINAL-URL:https://ms.studentischer-besuchsdienst.de/wordpress
X-WR-CALDESC:Veranstaltungen für StuBdi Münster
REFRESH-INTERVAL;VALUE=DURATION:PT1H
X-Robots-Tag:noindex
X-PUBLISHED-TTL:PT1H
BEGIN:VTIMEZONE
TZID:Europe/Helsinki
BEGIN:DAYLIGHT
TZOFFSETFROM:+0200
TZOFFSETTO:+0300
TZNAME:EEST
DTSTART:20230326T010000
END:DAYLIGHT
BEGIN:STANDARD
TZOFFSETFROM:+0300
TZOFFSETTO:+0200
TZNAME:EET
DTSTART:20231029T010000
END:STANDARD
END:VTIMEZONE
BEGIN:VEVENT
DTSTART;TZID=Europe/Helsinki:20230606T190000
DTEND;TZID=Europe/Helsinki:20230606T210000
DTSTAMP:20260425T062128
CREATED:20230522T105157Z
LAST-MODIFIED:20230522T105157Z
UID:340-1686078000-1686085200@ms.studentischer-besuchsdienst.de
SUMMARY:Stammtisch
DESCRIPTION:Auch nächsten Monat findet unser Stammtsich am 1. Dienstag statt. Dieses Mal treffen wir uns im Krawummel. Wir freuen uns auf euch!
URL:https://ms.studentischer-besuchsdienst.de/wordpress/event/stammtisch-2/
LOCATION:Ludgeristraße 62
END:VEVENT
END:VCALENDAR