BEGIN:VCALENDAR
VERSION:2.0
PRODID:-//StuBdi Münster - ECPv6.2.6//NONSGML v1.0//EN
CALSCALE:GREGORIAN
METHOD:PUBLISH
X-ORIGINAL-URL:https://ms.studentischer-besuchsdienst.de/wordpress
X-WR-CALDESC:Veranstaltungen für StuBdi Münster
REFRESH-INTERVAL;VALUE=DURATION:PT1H
X-Robots-Tag:noindex
X-PUBLISHED-TTL:PT1H
BEGIN:VTIMEZONE
TZID:Europe/Helsinki
BEGIN:DAYLIGHT
TZOFFSETFROM:+0200
TZOFFSETTO:+0300
TZNAME:EEST
DTSTART:20240331T010000
END:DAYLIGHT
BEGIN:STANDARD
TZOFFSETFROM:+0300
TZOFFSETTO:+0200
TZNAME:EET
DTSTART:20241027T010000
END:STANDARD
END:VTIMEZONE
BEGIN:VEVENT
DTSTART;TZID=Europe/Helsinki:20240418T183000
DTEND;TZID=Europe/Helsinki:20240418T193000
DTSTAMP:20260424T162911
CREATED:20240403T091320Z
LAST-MODIFIED:20240403T091320Z
UID:351-1713465000-1713468600@ms.studentischer-besuchsdienst.de
SUMMARY:Hybride Hauptversammlung!
DESCRIPTION:Ihr seid herzlich eingeladen zu unserem Infoabend mit einer außerordentlichen Hybriden- Hauptversammlung am Donnerstag\, den 18.04.2024 um 18:30Uhr. Dort werden wir über den Vorstand abstimmen (Ihr könnt euch ab jetzt für eine Position im Vorstand bewerben!).\nNach der Versammlung besteht die Möglichkeit gemeinsam mit uns Essen zu gehen. \n 
URL:https://ms.studentischer-besuchsdienst.de/wordpress/event/hybride-hauptversammlung/
LOCATION:F040\, Fürstenberghaus\, F040\, Fürstenberghaus\, Münster
END:VEVENT
END:VCALENDAR